BEGIN:VCALENDAR
VERSION:2.0
PRODID:-//eventon.com NONSGML v1.0//EN
CALSCALE:GREGORIAN
METHOD:PUBLISH
BEGIN:VEVENT
UID:69ecaef302e22
DTSTAMP:20260425T120923Z
DTSTART:20260425
DTEND:20260426
LOCATION:
SUMMARY:Railway Wine Festival
DESCRIPTION:The Railway Wine Festival takes place at the Elgin Railway Mark
 et\,  bringing together a selection of wine producers from Elgin and Bot Ri
 ver for a focused weekend of tastings. Set within this well-known indoor ma
 rket\,  the event offers a convenient way to experience a range of regional
  wines in one[..]\nhttps://capemarkets.co.za/events/elgin-winter-wine-festi
 val/
URL:https://capemarkets.co.za/events/elgin-winter-wine-festival/
END:VEVENT
END:VCALENDAR