BEGIN:VCALENDAR
VERSION:2.0
PRODID:-//eventon.com NONSGML v1.0//EN
CALSCALE:GREGORIAN
METHOD:PUBLISH
BEGIN:VEVENT
UID:69e5663f9cddd
DTSTAMP:20260419T233319Z
DTSTART:20260425T080000Z
DTEND:20260425T130000Z
LOCATION:
SUMMARY:GRAPA Market
DESCRIPTION:Set in a flourishing community vegetable garden in Plumstead\, 
  the GRAPA market is held on the last Saturday of the month. Browse fresh p
 roduce\,  artisan goods\,  and delicious food while enjoying live music in 
 a welcoming\,  green space.\nhttps://capemarkets.co.za/events/grapa-market/
 var/ri-3.l-L1
URL:https://capemarkets.co.za/events/grapa-market/var/ri-3.l-L1
END:VEVENT
END:VCALENDAR