BEGIN:VCALENDAR
VERSION:2.0
PRODID:-//eventon.com NONSGML v1.0//EN
CALSCALE:GREGORIAN
METHOD:PUBLISH
BEGIN:VEVENT
UID:69ecaef1775bc
DTSTAMP:20260425T120921Z
DTSTART:20260424
DTEND:20260425
LOCATION:
SUMMARY:Gordonsbaai Autumn Market
DESCRIPTION:The Gordon’s Bay Autumn Market is the first and only Autumn m
 arket in the Helderberg!&nbsp;Hosted by the same organisers as the popular&
 nbsp;Gordon’s Bay Christmas market\,  this annual event will showcase a v
 ariety of products for young\,  old and in between as exhibitors from all o
 ver the country will gather to[..]\nhttps://capemarkets.co.za/events/gordon
 sbaai-autumn-market/
URL:https://capemarkets.co.za/events/gordonsbaai-autumn-market/
END:VEVENT
END:VCALENDAR